BEGIN:VCALENDAR
VERSION:2.0
PRODID:-//Mass-Care - ECPv6.15.20//NONSGML v1.0//EN
CALSCALE:GREGORIAN
METHOD:PUBLISH
X-WR-CALNAME:Mass-Care
X-ORIGINAL-URL:https://masscare.org
X-WR-CALDESC:Events for Mass-Care
REFRESH-INTERVAL;VALUE=DURATION:PT1H
X-Robots-Tag:noindex
X-PUBLISHED-TTL:PT1H
BEGIN:VTIMEZONE
TZID:America/New_York
BEGIN:DAYLIGHT
TZOFFSETFROM:-0500
TZOFFSETTO:-0400
TZNAME:EDT
DTSTART:20250309T070000
END:DAYLIGHT
BEGIN:STANDARD
TZOFFSETFROM:-0400
TZOFFSETTO:-0500
TZNAME:EST
DTSTART:20251102T060000
END:STANDARD
BEGIN:DAYLIGHT
TZOFFSETFROM:-0500
TZOFFSETTO:-0400
TZNAME:EDT
DTSTART:20260308T070000
END:DAYLIGHT
BEGIN:STANDARD
TZOFFSETFROM:-0400
TZOFFSETTO:-0500
TZNAME:EST
DTSTART:20261101T060000
END:STANDARD
BEGIN:DAYLIGHT
TZOFFSETFROM:-0500
TZOFFSETTO:-0400
TZNAME:EDT
DTSTART:20270314T070000
END:DAYLIGHT
BEGIN:STANDARD
TZOFFSETFROM:-0400
TZOFFSETTO:-0500
TZNAME:EST
DTSTART:20271107T060000
END:STANDARD
END:VTIMEZONE
BEGIN:VEVENT
DTSTART;TZID=America/New_York:20260429T190000
DTEND;TZID=America/New_York:20260429T203000
DTSTAMP:20260424T115138
CREATED:20260417T010537Z
LAST-MODIFIED:20260417T010537Z
UID:3203-1777489200-1777494600@masscare.org
SUMMARY:Zoom Forum: The Health Care Crisis – Medicare for All in MA is the Answer!
DESCRIPTION:May Day - Workers over Billionaires\nMarch with Mass-Care and the Massachusetts Teachers Association\nRally at 4:00 pm at Eli Lily Co.\, 450 Kendall St.\, Cambridge\nMarch to the Boston Common 5:00 pm\n 
URL:https://masscare.org/event/zoom-forum-the-health-care-crisis-medicare-for-all-in-ma-is-the-answer/
LOCATION:MA
END:VEVENT
BEGIN:VEVENT
DTSTART;TZID=America/New_York:20260430T190000
DTEND;TZID=America/New_York:20260430T203000
DTSTAMP:20260424T115138
CREATED:20260417T010859Z
LAST-MODIFIED:20260417T010859Z
UID:3215-1777575600-1777581000@masscare.org
SUMMARY:Zoom Forum: Community Health Centers Are In Crisis
DESCRIPTION:May Day - Workers over Billionaires\nMarch with Mass-Care and the Massachusetts Teachers Association\nRally at 4:00 pm at Eli Lily Co.\, 450 Kendall St.\, Cambridge\nMarch to the Boston Common 5:00 pm\n 
URL:https://masscare.org/event/zoom-forum-community-health-centers-are-in-crisis/
LOCATION:MA
END:VEVENT
END:VCALENDAR